BEGIN:VCALENDAR
VERSION:2.0
PRODID:-//LCLAA New York Westchester County Chapter - ECPv6.15.20//NONSGML v1.0//EN
CALSCALE:GREGORIAN
METHOD:PUBLISH
X-WR-CALNAME:LCLAA New York Westchester County Chapter
X-ORIGINAL-URL:https://lclaawestchester.com
X-WR-CALDESC:Events for LCLAA New York Westchester County Chapter
REFRESH-INTERVAL;VALUE=DURATION:PT1H
X-Robots-Tag:noindex
X-PUBLISHED-TTL:PT1H
BEGIN:VTIMEZONE
TZID:UTC
BEGIN:STANDARD
TZOFFSETFROM:+0000
TZOFFSETTO:+0000
TZNAME:UTC
DTSTART:20250101T000000
END:STANDARD
END:VTIMEZONE
BEGIN:VEVENT
DTSTART;TZID=UTC:20260316T190000
DTEND;TZID=UTC:20260316T203000
DTSTAMP:20260419T204213
CREATED:20260316T101901Z
LAST-MODIFIED:20260316T152030Z
UID:6484-1773687600-1773693000@lclaawestchester.com
SUMMARY:Membership Meeting via ZOOM
DESCRIPTION:Every month on the Third Mon\, until Aug 17\, 2026\, 6 occurrence(s) \nMonthly:  \nJoin Zoom Meetinghttps://us02web.zoom.us/j/88998947002?pwd=Og3FrhatUH7cEIrkUrGAgObtvW0Q3S.1    \n\n\n\n\n \nMeeting ID: 889 9894 7002Passcode: 320029 \n\n\n\n\n \n— \n\n\n\n\n \nOne tap mobile+16469313860\,\,88998947002#\,\,\,\,*320029# US+19292056099\,\,88998947002#\,\,\,\,*320029# US (New York)
URL:https://lclaawestchester.com/event/membership-meeting-via-zoom/
END:VEVENT
END:VCALENDAR